BEGIN:VCALENDAR
VERSION:2.0
PRODID:-//Intand Corporation//Tandem//EN
METHOD:PUBLISH
BEGIN:VEVENT
DTSTAMP:20260424T132255Z
DTSTART:20260409T020000Z
DTEND:20260409T033000Z
TRANSP:TRANSPARENT
PRIORITY:0
SUMMARY:Rush Soccer
LOCATION:Terry Ennis Stadium
DESCRIPTION:Groups:\nFacility Rental\n\nSchools:\nArchbishop Murphy High S
 chool\n\nLocation:\nTerry Ennis Stadium\n\n
URL;VALUE=URI:https://archbishopmurphywaus.tandem.co/index.php?type=view&a
 ction=event&id=83434
CREATED:20260413T163350Z
LAST-MODIFIED:20260413T163350Z
UID:event-83434-archbishopmurphywaus@intand.com
END:VEVENT
END:VCALENDAR
